BEGIN:VCALENDAR
VERSION:2.0
PRODID:-//Coral Springs Museum of Art - ECPv6.15.20//NONSGML v1.0//EN
CALSCALE:GREGORIAN
METHOD:PUBLISH
X-WR-CALNAME:Coral Springs Museum of Art
X-ORIGINAL-URL:https://coralspringsmuseum.org
X-WR-CALDESC:Events for Coral Springs Museum of Art
REFRESH-INTERVAL;VALUE=DURATION:PT1H
X-Robots-Tag:noindex
X-PUBLISHED-TTL:PT1H
BEGIN:VTIMEZONE
TZID:America/New_York
BEGIN:DAYLIGHT
TZOFFSETFROM:-0500
TZOFFSETTO:-0400
TZNAME:EDT
DTSTART:20230312T070000
END:DAYLIGHT
BEGIN:STANDARD
TZOFFSETFROM:-0400
TZOFFSETTO:-0500
TZNAME:EST
DTSTART:20231105T060000
END:STANDARD
BEGIN:DAYLIGHT
TZOFFSETFROM:-0500
TZOFFSETTO:-0400
TZNAME:EDT
DTSTART:20240310T070000
END:DAYLIGHT
BEGIN:STANDARD
TZOFFSETFROM:-0400
TZOFFSETTO:-0500
TZNAME:EST
DTSTART:20241103T060000
END:STANDARD
BEGIN:DAYLIGHT
TZOFFSETFROM:-0500
TZOFFSETTO:-0400
TZNAME:EDT
DTSTART:20250309T070000
END:DAYLIGHT
BEGIN:STANDARD
TZOFFSETFROM:-0400
TZOFFSETTO:-0500
TZNAME:EST
DTSTART:20251102T060000
END:STANDARD
END:VTIMEZONE
BEGIN:VEVENT
DTSTART;TZID=America/New_York:20240730T181500
DTEND;TZID=America/New_York:20240730T201500
DTSTAMP:20260421T062055
CREATED:20240501T200553Z
LAST-MODIFIED:20240501T201450Z
UID:10000241-1722363300-1722370500@coralspringsmuseum.org
SUMMARY:Control Your Camera! – Ages 18+
DESCRIPTION:Regardless of your experience level\, our Control Your Camera course is specifically designed to help you learn to better understand your own specific camera with the help of our knowledgeable photography instructor. All the most important settings such as shutter speed\, ISO\, F/stop\, exposure compensation\, and white balance will be addressed to help you master your equipment. \n\n\n\nThe course is broken up into repeatable two-week mini classes so that you can return for however many sessions you need to feel confident with your camera. Digital camera required. Supply list can be found at https://coralspringsmuseum.org/learning/ \n\n\n\nJuly 30\, August 6
URL:https://coralspringsmuseum.org/event/control-your-camera-ages-18-4/
LOCATION:Coral Springs Museum of Art\, 2855A Coral Springs Drive\, Coral Springs\, FL\, 33065\, United States
CATEGORIES:Adult Programs,Class
ATTACH;FMTTYPE=image/jpeg:https://coralspringsmuseum.org/wp-content/uploads/2024/04/Featured-Images-Wordpress-Website.jpg
END:VEVENT
END:VCALENDAR