BEGIN:VCALENDAR
VERSION:2.0
PRODID:-//Coral Springs Museum of Art - ECPv6.15.20//NONSGML v1.0//EN
CALSCALE:GREGORIAN
METHOD:PUBLISH
X-WR-CALNAME:Coral Springs Museum of Art
X-ORIGINAL-URL:https://coralspringsmuseum.org
X-WR-CALDESC:Events for Coral Springs Museum of Art
REFRESH-INTERVAL;VALUE=DURATION:PT1H
X-Robots-Tag:noindex
X-PUBLISHED-TTL:PT1H
BEGIN:VTIMEZONE
TZID:America/New_York
BEGIN:DAYLIGHT
TZOFFSETFROM:-0500
TZOFFSETTO:-0400
TZNAME:EDT
DTSTART:20230312T070000
END:DAYLIGHT
BEGIN:STANDARD
TZOFFSETFROM:-0400
TZOFFSETTO:-0500
TZNAME:EST
DTSTART:20231105T060000
END:STANDARD
BEGIN:DAYLIGHT
TZOFFSETFROM:-0500
TZOFFSETTO:-0400
TZNAME:EDT
DTSTART:20240310T070000
END:DAYLIGHT
BEGIN:STANDARD
TZOFFSETFROM:-0400
TZOFFSETTO:-0500
TZNAME:EST
DTSTART:20241103T060000
END:STANDARD
BEGIN:DAYLIGHT
TZOFFSETFROM:-0500
TZOFFSETTO:-0400
TZNAME:EDT
DTSTART:20250309T070000
END:DAYLIGHT
BEGIN:STANDARD
TZOFFSETFROM:-0400
TZOFFSETTO:-0500
TZNAME:EST
DTSTART:20251102T060000
END:STANDARD
END:VTIMEZONE
BEGIN:VEVENT
DTSTART;TZID=America/New_York:20240822T160000
DTEND;TZID=America/New_York:20240822T180000
DTSTAMP:20260420T053411
CREATED:20240805T131105Z
LAST-MODIFIED:20240816T191112Z
UID:10000254-1724342400-1724349600@coralspringsmuseum.org
SUMMARY:Volunteer Appreciation Day
DESCRIPTION:Attention\, amazing CSMoA volunteers! Join us on August 22nd from 4-6 PM at the Coral Springs Museum of Art for a special appreciation event. Your dedication and passion make our community vibrant and welcoming\, and we’re excited to return the favor to all of you! Thank you for everything you do\, and we hope to see you there!
URL:https://coralspringsmuseum.org/event/volunteer-appreciation-day/
LOCATION:Coral Springs Museum of Art\, 2855A Coral Springs Drive\, Coral Springs\, FL\, 33065\, United States
CATEGORIES:After Hours Events,Free Events,Teen Programs,Youth Programs
ATTACH;FMTTYPE=image/jpeg:https://coralspringsmuseum.org/wp-content/uploads/2024/08/VolunteerMember-Appreciation-Week-1920-x-1080-px-1.jpg
END:VEVENT
END:VCALENDAR