BEGIN:VCALENDAR
VERSION:2.0
PRODID:-//Coral Springs Museum of Art - ECPv6.15.20//NONSGML v1.0//EN
CALSCALE:GREGORIAN
METHOD:PUBLISH
X-ORIGINAL-URL:https://coralspringsmuseum.org
X-WR-CALDESC:Events for Coral Springs Museum of Art
REFRESH-INTERVAL;VALUE=DURATION:PT1H
X-Robots-Tag:noindex
X-PUBLISHED-TTL:PT1H
BEGIN:VTIMEZONE
TZID:America/New_York
BEGIN:DAYLIGHT
TZOFFSETFROM:-0500
TZOFFSETTO:-0400
TZNAME:EDT
DTSTART:20240310T070000
END:DAYLIGHT
BEGIN:STANDARD
TZOFFSETFROM:-0400
TZOFFSETTO:-0500
TZNAME:EST
DTSTART:20241103T060000
END:STANDARD
BEGIN:DAYLIGHT
TZOFFSETFROM:-0500
TZOFFSETTO:-0400
TZNAME:EDT
DTSTART:20250309T070000
END:DAYLIGHT
BEGIN:STANDARD
TZOFFSETFROM:-0400
TZOFFSETTO:-0500
TZNAME:EST
DTSTART:20251102T060000
END:STANDARD
BEGIN:DAYLIGHT
TZOFFSETFROM:-0500
TZOFFSETTO:-0400
TZNAME:EDT
DTSTART:20260308T070000
END:DAYLIGHT
BEGIN:STANDARD
TZOFFSETFROM:-0400
TZOFFSETTO:-0500
TZNAME:EST
DTSTART:20261101T060000
END:STANDARD
END:VTIMEZONE
BEGIN:VEVENT
DTSTART;TZID=America/New_York:20251108T090000
DTEND;TZID=America/New_York:20251108T100000
DTSTAMP:20260421T062248
CREATED:20250530T154640Z
LAST-MODIFIED:20250530T155033Z
UID:10001240-1762592400-1762596000@coralspringsmuseum.org
SUMMARY:Sensory Saturdays
DESCRIPTION:Starting Saturday\, June 7\, the Museum Galleries will open from 9 to 10 AM for Sensory Saturdays. During this hour\, guests who desire a calmer experience can enjoy the Museum during a low-traffic hour outside of our normal programming. The Museum is proud to be Sensory Inclusive certified by KultureCity® \, a leading nonprofit dedicated to promoting inclusivity and accessibility. \nAdditionally\, Sensory kits are always available at the Museum Front Desk for anyone in need. \nNO RSVP is required. Admission is free.
URL:https://coralspringsmuseum.org/event/sensory-saturdays-2/2025-11-08/
LOCATION:Coral Springs Museum of Art\, 2855A Coral Springs Drive\, Coral Springs\, FL\, 33065\, United States
CATEGORIES:Family Friendly,Free Events
ORGANIZER;CN="Coral Springs Museum of Art":MAILTO:museuminfo@coralsprings.org
END:VEVENT
BEGIN:VEVENT
DTSTART;TZID=America/New_York:20251108T120000
DTEND;TZID=America/New_York:20251108T200000
DTSTAMP:20260421T062248
CREATED:20250827T203022Z
LAST-MODIFIED:20251107T143400Z
UID:10001494-1762603200-1762632000@coralspringsmuseum.org
SUMMARY:Pine & Palm Artists Market
DESCRIPTION:Sip and shop this holiday season! Skip the big-box retailers and snag one-of-a-kind\, handmade items for everyone on your holiday shopping list. This 2-day event will feature  jewelry\, ceramic dishware\, artwork\, accessories\, and more\, all handmade by local artisans and makers. Vendors will be located indoors\, throughout the Museum Galleries\, allowing guests to enjoy the current exhibition on display. Beer\, wine\, and assorted beverages will be available for purchase. \nParticipating Vendors:\n– ArtNez\n– Bent & Bree\n– Chelle’s Beads\n– Coral Springs Artist Guild\n– Crassy Creations\n– Crochet by Rosi\n– Diane Lublinski\n– Dot to Dot\n– DyaneCreates\n– Feffy’s Cafe\n– Flor’s Empurrium\n– Golden Grass Biojewelry\n– Ibenia C\n– IFD Ceramics and Art\n– JK Kareff Fiber Arts\n– Jumping Jellyfish Designs\n– Love MadEye Designs\n– Mongo Art\n– Myst & Muse Art & Collectibles\, LLC\n– Nomad Soul Designs\n– On Cloud Flow\n– Palm Haven Soap\n– Silvanim\, Inc.\n– Twiggy Boyer Art \nSaturday\, November 8 | 12 – 8 PM Sunday\, November 9 | 10 AM to 4PM
URL:https://coralspringsmuseum.org/event/pine-palm-artists-market/
LOCATION:Coral Springs Museum of Art\, 2855A Coral Springs Drive\, Coral Springs\, FL\, 33065\, United States
CATEGORIES:Adult Programs,After Hours Events,Exhibition,Family Friendly,Free Events
ORGANIZER;CN="Coral Springs Museum of Art":MAILTO:museuminfo@coralsprings.org
END:VEVENT
BEGIN:VEVENT
DTSTART;TZID=America/New_York:20251108T130000
DTEND;TZID=America/New_York:20251108T150000
DTSTAMP:20260421T062248
CREATED:20251004T172122Z
LAST-MODIFIED:20251004T172122Z
UID:10001676-1762606800-1762614000@coralspringsmuseum.org
SUMMARY:Class: Art and Fantasy (5-8)
DESCRIPTION:Fantasy stories are filled with magic and adventure! In this spellbinding class\, students will learn to draw and design magical characters in fairy tale settings. Supplies are included. \nSaturdays   1 to 3 PM \nAges 5-8\nInstructor: Rachel Gordon\nNovember 8\, 15\, 22\, December 6\, 12\, 20 (No class November 29) \nCost\nNon-Members: $150 / Members receive a 5% discount\nAdditional 5% early bird discount available through October 20\, 2025  \n➡️ REGISTER ONLINE
URL:https://coralspringsmuseum.org/event/class-art-and-fantasy-5-8/2025-11-08/
LOCATION:Coral Springs Museum of Art\, 2855A Coral Springs Drive\, Coral Springs\, FL\, 33065\, United States
CATEGORIES:Class
ORGANIZER;CN="Coral Springs Museum of Art":MAILTO:museuminfo@coralsprings.org
END:VEVENT
END:VCALENDAR