BEGIN:VCALENDAR
VERSION:2.0
PRODID:-//Coral Springs Museum of Art - ECPv6.15.20//NONSGML v1.0//EN
CALSCALE:GREGORIAN
METHOD:PUBLISH
X-ORIGINAL-URL:https://coralspringsmuseum.org
X-WR-CALDESC:Events for Coral Springs Museum of Art
REFRESH-INTERVAL;VALUE=DURATION:PT1H
X-Robots-Tag:noindex
X-PUBLISHED-TTL:PT1H
BEGIN:VTIMEZONE
TZID:America/New_York
BEGIN:DAYLIGHT
TZOFFSETFROM:-0500
TZOFFSETTO:-0400
TZNAME:EDT
DTSTART:20250309T070000
END:DAYLIGHT
BEGIN:STANDARD
TZOFFSETFROM:-0400
TZOFFSETTO:-0500
TZNAME:EST
DTSTART:20251102T060000
END:STANDARD
BEGIN:DAYLIGHT
TZOFFSETFROM:-0500
TZOFFSETTO:-0400
TZNAME:EDT
DTSTART:20260308T070000
END:DAYLIGHT
BEGIN:STANDARD
TZOFFSETFROM:-0400
TZOFFSETTO:-0500
TZNAME:EST
DTSTART:20261101T060000
END:STANDARD
BEGIN:DAYLIGHT
TZOFFSETFROM:-0500
TZOFFSETTO:-0400
TZNAME:EDT
DTSTART:20270314T070000
END:DAYLIGHT
BEGIN:STANDARD
TZOFFSETFROM:-0400
TZOFFSETTO:-0500
TZNAME:EST
DTSTART:20271107T060000
END:STANDARD
END:VTIMEZONE
BEGIN:VEVENT
DTSTART;TZID=America/New_York:20260410T180000
DTEND;TZID=America/New_York:20260410T210000
DTSTAMP:20260421T062714
CREATED:20260303T211102Z
LAST-MODIFIED:20260303T220324Z
UID:10002821-1775844000-1775854800@coralspringsmuseum.org
SUMMARY:Opening Reception: "Marmoris 2" A Selection from the Deering Estate Artist-in-Residence Archive
DESCRIPTION:Join us for the Opening Reception for Marmoris 2: A Selection from the Deering Estate Artist-in-Residence Archive. Be among the first view the new exhibit and meet the exhibiting artists! \nFriday\, April 10 \n6 to 9 PM\nFREE and Open to the Public \nAbout the Exhibition:\nMarmoris\, from the Latin word for marble\, evokes both the classical weight of artistic legacy and the enduring textures of time and transformation. This exhibition draws from the Deering Estate’s Artist-in-Residence (AIR) archive\, presenting a curated selection of works that reflect the depth and diversity of artistic inquiry fostered on-site over the past two decades. This second iteration expands the original framework to include works by current residents\, alongside new projects developed by past participants. Marmoris 2 will be on view through May 23. \nThis archival selection underscores the AIR program’s long-standing commitment to process-based exploration and place-based creation. Marmoris 2 invites viewers to consider how artistic practices preserve\, question\, and reshape collective memory by revisiting pivotal works and moments from the residency’s legacy. The exhibition stands as both a reflective monument and a living platform for future inquiry\, where what has been carved endures\, and what is ephemeral becomes part of an ever-evolving artistic topography. \nAbout Deering Estate\nDeering Estate\, located at 16701 SW 72 Ave. in Miami\, is a 21st Century house museum\, cultural and ecological field station\, and a national landmark listed on the National Register of Historic Places\, owned by the State of Florida and managed by Miami-Dade County Parks\, Recreation and Open Spaces Department. Deering Estate is designated as one of seven Miami-Dade County “Heritage Parks” which have a vital role in our community’s history\, environment and in providing recreational and cultural experiences. \nThis exhibition is part of the Deering Estate AT program\, which expands the cultural reach of Deering Estate AIRs by showcasing their work in dynamic new settings that foster community connections.  \n⬇️ RSVP for the Opening Reception
URL:https://coralspringsmuseum.org/event/opening-reception-marmoris-2-a-selection-from-the-deering-estate-artist-in-residence-archive/
LOCATION:Coral Springs Museum of Art\, 2855A Coral Springs Drive\, Coral Springs\, FL\, 33065\, United States
CATEGORIES:Adult Programs,After Hours Events,Exhibition,Free Events
ORGANIZER;CN="Coral Springs Museum of Art":MAILTO:museuminfo@coralsprings.org
END:VEVENT
END:VCALENDAR