BEGIN:VCALENDAR
VERSION:2.0
PRODID:-//Coral Springs Museum of Art - ECPv6.15.20//NONSGML v1.0//EN
CALSCALE:GREGORIAN
METHOD:PUBLISH
X-ORIGINAL-URL:https://coralspringsmuseum.org
X-WR-CALDESC:Events for Coral Springs Museum of Art
REFRESH-INTERVAL;VALUE=DURATION:PT1H
X-Robots-Tag:noindex
X-PUBLISHED-TTL:PT1H
BEGIN:VTIMEZONE
TZID:America/New_York
BEGIN:DAYLIGHT
TZOFFSETFROM:-0500
TZOFFSETTO:-0400
TZNAME:EDT
DTSTART:20250309T070000
END:DAYLIGHT
BEGIN:STANDARD
TZOFFSETFROM:-0400
TZOFFSETTO:-0500
TZNAME:EST
DTSTART:20251102T060000
END:STANDARD
BEGIN:DAYLIGHT
TZOFFSETFROM:-0500
TZOFFSETTO:-0400
TZNAME:EDT
DTSTART:20260308T070000
END:DAYLIGHT
BEGIN:STANDARD
TZOFFSETFROM:-0400
TZOFFSETTO:-0500
TZNAME:EST
DTSTART:20261101T060000
END:STANDARD
BEGIN:DAYLIGHT
TZOFFSETFROM:-0500
TZOFFSETTO:-0400
TZNAME:EDT
DTSTART:20270314T070000
END:DAYLIGHT
BEGIN:STANDARD
TZOFFSETFROM:-0400
TZOFFSETTO:-0500
TZNAME:EST
DTSTART:20271107T060000
END:STANDARD
END:VTIMEZONE
BEGIN:VEVENT
DTSTART;TZID=America/New_York:20260711T170000
DTEND;TZID=America/New_York:20260711T190000
DTSTAMP:20260419T124006
CREATED:20260116T151128Z
LAST-MODIFIED:20260116T152109Z
UID:10002403-1783789200-1783796400@coralspringsmuseum.org
SUMMARY:Uncorked: Paint ‘n Sip
DESCRIPTION:Dive into a world of creativity! Our instructors will lead you in guided experience to create and keep a 11×14” canvas painting based on selected work by a Master painter in a fun and easy-to-follow format. Learn about art history and contemporary art while you socialize and sip! We provide supplies and a selection of beverages. Your first drink is on us! \nJuly 11 theme:\nMagnificent Kahlo Still Life\n(Frida Kahlo’s Still Life with Parrot and Fruit\, 1951) \n\nDiscover the rich symbolism in Frida Kahlo’s lesser-known work\, Still Life with Parrot and Fruit\, 1951. Though recognized for her portraits\, Kahlo’s still lives are abundant and full metaphors and vivid colors. We’ll explore the techniques of painting organic forms\, light and shadow\, and touch on the importance of color theory in this iconic piece. Step into Frida’s exciting universe and see through her eyes\, to recreate an enigmatic artwork through your own lens. \nTime and Cost:\n5 to 7 PM\n$20 Museum Members\n$30 Non-Members \n➡️ REGISTER ONLINE 
URL:https://coralspringsmuseum.org/event/uncorked-paint-n-sip-6/
LOCATION:Coral Springs Museum of Art\, 2855A Coral Springs Drive\, Coral Springs\, FL\, 33065\, United States
CATEGORIES:Adult Programs,After Hours Events,Workshop
ORGANIZER;CN="Coral Springs Museum of Art":MAILTO:museuminfo@coralsprings.org
END:VEVENT
BEGIN:VEVENT
DTSTART;TZID=America/New_York:20260711T170000
DTEND;TZID=America/New_York:20260711T190000
DTSTAMP:20260419T124006
CREATED:20260326T124655Z
LAST-MODIFIED:20260326T124705Z
UID:10002844-1783789200-1783796400@coralspringsmuseum.org
SUMMARY:Clay Dates
DESCRIPTION:Get your hands dirty! Clay Date is a relaxed\, beginner-friendly ceramics workshop where you’ll design and make your own handmade clay pottery or sculpture from scratch. Whether you bring a partner\, a friend\, or just your fabulous self\, this is your chance to slow down\, get creative\, and play with clay. No experience needed. \nApril project: Clay Planters \nTime and Cost:\n5 to 7 p.m.\n$35 Museum Members\n$40 Non-Members \n➡️ REGISTER ONLINE
URL:https://coralspringsmuseum.org/event/clay-dates/2026-07-11/
LOCATION:Coral Springs Museum of Art\, 2855A Coral Springs Drive\, Coral Springs\, FL\, 33065\, United States
CATEGORIES:Adult Programs,After Hours Events,Class,Workshop
ORGANIZER;CN="Coral Springs Museum of Art":MAILTO:museuminfo@coralsprings.org
END:VEVENT
BEGIN:VEVENT
DTSTART;TZID=America/New_York:20260715T180000
DTEND;TZID=America/New_York:20260715T200000
DTSTAMP:20260419T124006
CREATED:20260328T170648Z
LAST-MODIFIED:20260328T170648Z
UID:10002847-1784138400-1784145600@coralspringsmuseum.org
SUMMARY:Craft Corner
DESCRIPTION:Get crafty with us! Craft Corner is a monthly creative meetup where crafters can explore new techniques\, make something beautiful\, and connect with fellow makers in a relaxed\, welcoming space. Crafters will have the chance to unwind\, try their hand at something new\, and take home their own handmade creation. Try a themed\, hands-on workshops every month! \nTime and Cost:\n6 to 8 PM\n$10 Non-Members | FREE For Museum Members \nAges:\n12 and up. Ages 12 to 16 must be accompanied by a parent. \n REGISTER ONLINE
URL:https://coralspringsmuseum.org/event/craft-corner-6/
LOCATION:Coral Springs Museum of Art\, 2855A Coral Springs Drive\, Coral Springs\, FL\, 33065\, United States
ORGANIZER;CN="Coral Springs Museum of Art":MAILTO:museuminfo@coralsprings.org
END:VEVENT
BEGIN:VEVENT
DTSTART;TZID=America/New_York:20260725T140000
DTEND;TZID=America/New_York:20260725T150000
DTSTAMP:20260419T124006
CREATED:20260408T183905Z
LAST-MODIFIED:20260408T183905Z
UID:10002857-1784988000-1784991600@coralspringsmuseum.org
SUMMARY:Art Spectrum
DESCRIPTION:At CSMoA\, we believe that art is for everyone. Art Spectrum is an inclusive\, sensory-informed\, museum-engagement program designed for children requiring extra support\, such as children living with Autism Spectrum Disorder (ASD) and their families. This one-hour program integrates a structured\, inquiry-based gallery experience with a therapeutic artmaking workshop facilitated by a Board-Certified Registered Art Therapist and educator with expertise in instruction to neurodiverse people. \nEach session includes: \n\nA short\, interactive gallery visit\nA hands-on artmaking activity led by a certified art therapist\nA calm\, sensory-considerate environment\nFlexible participation – no pressure\, no judgment\nFamily members create together\n\nUpcoming Dates: June 20 and July 25 \n2 PM to 3 PM \nAdmission is Free. RSVP is strongly encouraged as space is limited. \n⬇️ RSVP Below:
URL:https://coralspringsmuseum.org/event/art-spectrum/2026-07-25/
LOCATION:Coral Springs Museum of Art\, 2855A Coral Springs Drive\, Coral Springs\, FL\, 33065\, United States
CATEGORIES:Class,Family Friendly,Free Events,Preschool Programs,Youth Programs
ORGANIZER;CN="Coral Springs Museum of Art":MAILTO:museuminfo@coralsprings.org
END:VEVENT
END:VCALENDAR