BEGIN:VCALENDAR
VERSION:2.0
PRODID:-//Coral Springs Museum of Art - ECPv6.15.20//NONSGML v1.0//EN
CALSCALE:GREGORIAN
METHOD:PUBLISH
X-WR-CALNAME:Coral Springs Museum of Art
X-ORIGINAL-URL:https://coralspringsmuseum.org
X-WR-CALDESC:Events for Coral Springs Museum of Art
REFRESH-INTERVAL;VALUE=DURATION:PT1H
X-Robots-Tag:noindex
X-PUBLISHED-TTL:PT1H
BEGIN:VTIMEZONE
TZID:America/New_York
BEGIN:DAYLIGHT
TZOFFSETFROM:-0500
TZOFFSETTO:-0400
TZNAME:EDT
DTSTART:20250309T070000
END:DAYLIGHT
BEGIN:STANDARD
TZOFFSETFROM:-0400
TZOFFSETTO:-0500
TZNAME:EST
DTSTART:20251102T060000
END:STANDARD
BEGIN:DAYLIGHT
TZOFFSETFROM:-0500
TZOFFSETTO:-0400
TZNAME:EDT
DTSTART:20260308T070000
END:DAYLIGHT
BEGIN:STANDARD
TZOFFSETFROM:-0400
TZOFFSETTO:-0500
TZNAME:EST
DTSTART:20261101T060000
END:STANDARD
BEGIN:DAYLIGHT
TZOFFSETFROM:-0500
TZOFFSETTO:-0400
TZNAME:EDT
DTSTART:20270314T070000
END:DAYLIGHT
BEGIN:STANDARD
TZOFFSETFROM:-0400
TZOFFSETTO:-0500
TZNAME:EST
DTSTART:20271107T060000
END:STANDARD
END:VTIMEZONE
BEGIN:VEVENT
DTSTART;TZID=America/New_York:20260509T170000
DTEND;TZID=America/New_York:20260509T190000
DTSTAMP:20260422T111332
CREATED:20260326T124655Z
LAST-MODIFIED:20260422T035829Z
UID:10002842-1778346000-1778353200@coralspringsmuseum.org
SUMMARY:Clay Dates
DESCRIPTION:Get your hands dirty! Clay Date is a relaxed\, beginner-friendly ceramics workshop where you’ll design and make your own handmade clay pottery or sculpture from scratch. Whether you bring a partner\, a friend\, or just your fabulous self\, this is your chance to slow down\, get creative\, and play with clay. No experience needed. \nApril project: Clay Planters\nMay project: Charcuterie Boards\nJune project: Wine Tumblers \nTime and Cost:\n5 to 7 p.m.\n$35 Museum Members\n$40 Non-Members \n➡️ REGISTER ONLINE
URL:https://coralspringsmuseum.org/event/clay-dates/2026-05-09/
LOCATION:Coral Springs Museum of Art\, 2855A Coral Springs Drive\, Coral Springs\, FL\, 33065\, United States
CATEGORIES:Adult Programs,After Hours Events,Class,Workshop
ORGANIZER;CN="Coral Springs Museum of Art":MAILTO:museuminfo@coralsprings.org
END:VEVENT
BEGIN:VEVENT
DTSTART;TZID=America/New_York:20260613T170000
DTEND;TZID=America/New_York:20260613T190000
DTSTAMP:20260422T111332
CREATED:20260326T124655Z
LAST-MODIFIED:20260422T035829Z
UID:10002843-1781370000-1781377200@coralspringsmuseum.org
SUMMARY:Clay Dates
DESCRIPTION:Get your hands dirty! Clay Date is a relaxed\, beginner-friendly ceramics workshop where you’ll design and make your own handmade clay pottery or sculpture from scratch. Whether you bring a partner\, a friend\, or just your fabulous self\, this is your chance to slow down\, get creative\, and play with clay. No experience needed. \nApril project: Clay Planters\nMay project: Charcuterie Boards\nJune project: Wine Tumblers \nTime and Cost:\n5 to 7 p.m.\n$35 Museum Members\n$40 Non-Members \n➡️ REGISTER ONLINE
URL:https://coralspringsmuseum.org/event/clay-dates/2026-06-13/
LOCATION:Coral Springs Museum of Art\, 2855A Coral Springs Drive\, Coral Springs\, FL\, 33065\, United States
CATEGORIES:Adult Programs,After Hours Events,Class,Workshop
ORGANIZER;CN="Coral Springs Museum of Art":MAILTO:museuminfo@coralsprings.org
END:VEVENT
BEGIN:VEVENT
DTSTART;TZID=America/New_York:20260711T170000
DTEND;TZID=America/New_York:20260711T190000
DTSTAMP:20260422T111332
CREATED:20260326T124655Z
LAST-MODIFIED:20260422T035829Z
UID:10002844-1783789200-1783796400@coralspringsmuseum.org
SUMMARY:Clay Dates
DESCRIPTION:Get your hands dirty! Clay Date is a relaxed\, beginner-friendly ceramics workshop where you’ll design and make your own handmade clay pottery or sculpture from scratch. Whether you bring a partner\, a friend\, or just your fabulous self\, this is your chance to slow down\, get creative\, and play with clay. No experience needed. \nApril project: Clay Planters\nMay project: Charcuterie Boards\nJune project: Wine Tumblers \nTime and Cost:\n5 to 7 p.m.\n$35 Museum Members\n$40 Non-Members \n➡️ REGISTER ONLINE
URL:https://coralspringsmuseum.org/event/clay-dates/2026-07-11/
LOCATION:Coral Springs Museum of Art\, 2855A Coral Springs Drive\, Coral Springs\, FL\, 33065\, United States
CATEGORIES:Adult Programs,After Hours Events,Class,Workshop
ORGANIZER;CN="Coral Springs Museum of Art":MAILTO:museuminfo@coralsprings.org
END:VEVENT
END:VCALENDAR