BEGIN:VCALENDAR
VERSION:2.0
PRODID:-//Coral Springs Museum of Art - ECPv6.15.20//NONSGML v1.0//EN
CALSCALE:GREGORIAN
METHOD:PUBLISH
X-WR-CALNAME:Coral Springs Museum of Art
X-ORIGINAL-URL:https://coralspringsmuseum.org
X-WR-CALDESC:Events for Coral Springs Museum of Art
REFRESH-INTERVAL;VALUE=DURATION:PT1H
X-Robots-Tag:noindex
X-PUBLISHED-TTL:PT1H
BEGIN:VTIMEZONE
TZID:America/New_York
BEGIN:DAYLIGHT
TZOFFSETFROM:-0500
TZOFFSETTO:-0400
TZNAME:EDT
DTSTART:20250309T070000
END:DAYLIGHT
BEGIN:STANDARD
TZOFFSETFROM:-0400
TZOFFSETTO:-0500
TZNAME:EST
DTSTART:20251102T060000
END:STANDARD
BEGIN:DAYLIGHT
TZOFFSETFROM:-0500
TZOFFSETTO:-0400
TZNAME:EDT
DTSTART:20260308T070000
END:DAYLIGHT
BEGIN:STANDARD
TZOFFSETFROM:-0400
TZOFFSETTO:-0500
TZNAME:EST
DTSTART:20261101T060000
END:STANDARD
BEGIN:DAYLIGHT
TZOFFSETFROM:-0500
TZOFFSETTO:-0400
TZNAME:EDT
DTSTART:20270314T070000
END:DAYLIGHT
BEGIN:STANDARD
TZOFFSETFROM:-0400
TZOFFSETTO:-0500
TZNAME:EST
DTSTART:20271107T060000
END:STANDARD
END:VTIMEZONE
BEGIN:VEVENT
DTSTART;TZID=America/New_York:20260421T133000
DTEND;TZID=America/New_York:20260421T153000
DTSTAMP:20260420T083532
CREATED:20260225T165856Z
LAST-MODIFIED:20260225T165856Z
UID:10002458-1776778200-1776785400@coralspringsmuseum.org
SUMMARY:Class: Drawing Fundamentals
DESCRIPTION:Build confidence and strengthen your core drawing skills in this 4-week workshop designed to provide a solid foundation in the arts. Whether you’re a complete beginner or returning to drawing after a break\, this course provides a supportive introduction to the essential tools and techniques of observational drawing. \nOver four weeks\, you’ll explore key concepts such as line\, shape\, proportion\, shading\, texture\, and perspective. Through guided exercises and focused studies\, you’ll learn how to really see your subject and translate what you observe onto the page. We’ll work with a variety of simple still-life setups and reference materials to help you develop accuracy\, depth\, and expressive mark-making. \nEach session includes demonstrations\, hands-on practice\, and individual guidance to help you grow at your own pace. The emphasis is on process\, progress\, and building strong foundations\, not perfection. \nTues 1:30 pm – 3:30 pm\n4 Classes\nApril 21\, 2026 – May 12\, 2026\n \nFees and Discounts\n$128 | 10% Member Discount \nStudents Will Need to Bring: \n\nGraphite pencils (HB\, 2B\, 4B)\nVine charcoal and compressed charcoal (medium)\nKneaded eraser\nPlastic eraser\nBlending stump (optional\, limited use)\nDrawing paper (medium tooth)\n\nPlease note: If the class does not meet its minimum enrollment prior to the registration deadline\, it risks being cancelled. Please call the Museum at 954-340-5000 for any questions related to registration. \n REGISTER ONLINE
URL:https://coralspringsmuseum.org/event/class-drawing-fundamentals/
LOCATION:Coral Springs Museum of Art\, 2855A Coral Springs Drive\, Coral Springs\, FL\, 33065\, United States
CATEGORIES:Adult Programs,Class
ORGANIZER;CN="Coral Springs Museum of Art":MAILTO:museuminfo@coralsprings.org
END:VEVENT
BEGIN:VEVENT
DTSTART;TZID=America/New_York:20260422T093000
DTEND;TZID=America/New_York:20260422T103000
DTSTAMP:20260420T083532
CREATED:20260303T183842Z
LAST-MODIFIED:20260303T183842Z
UID:10002804-1776850200-1776853800@coralspringsmuseum.org
SUMMARY:Parent 'N Me Creative Labs & Story Time
DESCRIPTION:Get ready for giggles and big imaginations! In this weekly adventure\, little artists and their grown-ups dive into the world of art through a playful storytime and hands-on creating. Each session kicks off with a children’s book about an inspiring artist\, introducing simple art ideas in a way that’s fun and easy to understand. Then it’s off to the studio for a sensory-friendly art activity inspired by the artist’s style. Grown-ups must be present and will join in the fun right alongside their little creators! \nDetails:\nAges 1 to 4\n9:30 AM to 10:30 AM\nWednesdays\nRegistration is available on a drop-in\, session-by-session basis. \nTheme: Collage Away Together \nInstructor:\nMagali Roba \nCost:\n$15 General Public | $10 Members\nNote: Cost is per parent-child pair \n➡️ BUY TICKETS ONLINE (Select Museum Preschool Art Classes – MUSPRE)
URL:https://coralspringsmuseum.org/event/parent-n-me-creative-labs-story-time-5/
LOCATION:Coral Springs Museum of Art\, 2855A Coral Springs Drive\, Coral Springs\, FL\, 33065\, United States
CATEGORIES:Class,Family Friendly,Preschool Programs
ORGANIZER;CN="Coral Springs Museum of Art":MAILTO:museuminfo@coralsprings.org
END:VEVENT
BEGIN:VEVENT
DTSTART;TZID=America/New_York:20260422T100000
DTEND;TZID=America/New_York:20260422T123000
DTSTAMP:20260420T083532
CREATED:20260225T154840Z
LAST-MODIFIED:20260225T154840Z
UID:10002450-1776852000-1776861000@coralspringsmuseum.org
SUMMARY:Class: Acrylic Painting The Still Life
DESCRIPTION:Slow down\, look closely\, and bring everyday objects to life with paint in this 4-week acrylic still life workshop. Designed for beginners and developing painters alike\, this course focuses on building strong foundational skills through the timeless practice of painting from observation. \nWorking from carefully arranged still life setups\, you’ll learn how to see and translate form\, light\, shadow\, color\, and texture onto the canvas. We’ll cover essential techniques such as color mixing\, brush handling\, composition\, and creating depth and dimension with acrylic paint. Each week builds on the last\, helping you grow more confident in your ability to observe and paint what you see. \nThis class offers a relaxed\, supportive environment with demonstrations\, guided exercises\, and individual feedback. Whether you prefer a realistic approach or a more expressive style\, you’ll be encouraged to develop your own artistic voice while strengthening core painting skills. \nWed 10:00 am – 12:30 pm                     \n4 Classes        \nStudio 3 \nInstructor: Lesly Chamate\nApril 22\, 2026 – May 13\, 2026 \nFees and Discounts\nNon-Member $160 | 10% Member Discount \nPlease note: If the class does not meet its minimum enrollment prior to the registration deadline\, it risks being cancelled. Please call the Museum at 954-340-5000 for any questions related to registration. \n REGISTER ONLINE
URL:https://coralspringsmuseum.org/event/class-acrylic-painting-the-still-life/
LOCATION:Coral Springs Museum of Art\, 2855A Coral Springs Drive\, Coral Springs\, FL\, 33065\, United States
CATEGORIES:Adult Programs,Class
ORGANIZER;CN="Coral Springs Museum of Art":MAILTO:museuminfo@coralsprings.org
END:VEVENT
BEGIN:VEVENT
DTSTART;TZID=America/New_York:20260423T173000
DTEND;TZID=America/New_York:20260423T193000
DTSTAMP:20260420T083532
CREATED:20260121T172743Z
LAST-MODIFIED:20260319T162450Z
UID:10002404-1776965400-1776972600@coralspringsmuseum.org
SUMMARY:Art@Night: Garden Party
DESCRIPTION:Let’s go to Happy Hour at the Museum! Whether flying solo or with friends\, guests can explore the current exhibition while enjoying music and a themed art activity. This month\, we’re celebrating the renewing spirit of the spring season with an indoor garden party. Admission is free. Beer\, wine\, and assorted beverages will be available for purchase. \n– Enjoy a live performance by indie rock band\, Surfer Blood.\n– Create and keep flower crowns and printed postcards\n– Watch a live ceramics wheel-throwing demo\n– Tour our on-site art classroom and register for a class. \n⬇️ RSVP Below!
URL:https://coralspringsmuseum.org/event/artnight-garden-party/
LOCATION:Coral Springs Museum of Art\, 2855A Coral Springs Drive\, Coral Springs\, FL\, 33065\, United States
CATEGORIES:Adult Programs,After Hours Events,Exhibition,Free Events
ORGANIZER;CN="Coral Springs Museum of Art":MAILTO:museuminfo@coralsprings.org
END:VEVENT
BEGIN:VEVENT
DTSTART;TZID=America/New_York:20260425T140000
DTEND;TZID=America/New_York:20260425T150000
DTSTAMP:20260420T083532
CREATED:20260414T181438Z
LAST-MODIFIED:20260414T181438Z
UID:10002859-1777125600-1777129200@coralspringsmuseum.org
SUMMARY:"Mamoris 2" Artist Talk
DESCRIPTION:Join us for an engaging and thought-provoking panel featuring several of the exhibiting artists\, whose diverse practices and perspectives bring this exhibition to life. In this dynamic conversation\, artists will share insights into their creative processes\, inspirations\, and the themes that shape their work\, offering audiences a deeper understanding of the ideas explored throughout the exhibition.\n\nModerated by the team from the Deering Estate\, the discussion will explore connections across mediums\, unpack the cultural and personal narratives embedded in the artworks\, and invite reflection on the role of contemporary art in today’s world. Attendees will have the opportunity to engage directly with the artists during an open Q&A\, fostering meaningful dialogue and exchange.\n\nParticipating artists include Susana Behar\, Elaine Defibaugh\, Giannina Dwin\, Tony Fernandez\, and Gustavo Matamoros\n\n⬇️ RSVP Below:
URL:https://coralspringsmuseum.org/event/mamoris-2-artist-talk/
LOCATION:Coral Springs Museum of Art\, 2855A Coral Springs Drive\, Coral Springs\, FL\, 33065\, United States
ORGANIZER;CN="Coral Springs Museum of Art":MAILTO:museuminfo@coralsprings.org
END:VEVENT
END:VCALENDAR